BEGIN:VCALENDAR
VERSION:2.0
PRODID:-//Georgia PGA - ECPv6.15.20//NONSGML v1.0//EN
CALSCALE:GREGORIAN
METHOD:PUBLISH
X-WR-CALNAME:Georgia PGA
X-ORIGINAL-URL:https://georgiapga.com
X-WR-CALDESC:Events for Georgia PGA
REFRESH-INTERVAL;VALUE=DURATION:PT1H
X-Robots-Tag:noindex
X-PUBLISHED-TTL:PT1H
BEGIN:VTIMEZONE
TZID:UTC
BEGIN:STANDARD
TZOFFSETFROM:+0000
TZOFFSETTO:+0000
TZNAME:UTC
DTSTART:20210101T000000
END:STANDARD
END:VTIMEZONE
BEGIN:VEVENT
DTSTART;VALUE=DATE:20231106
DTEND;VALUE=DATE:20231107
DTSTAMP:20260422T220517
CREATED:20230411T051541Z
LAST-MODIFIED:20240718T101353Z
UID:10000274-1699228800-1699315199@georgiapga.com
SUMMARY:Playing Ability Test
DESCRIPTION:
URL:https://georgiapga.com/event/playing-ability-test-10/
LOCATION:Nob North Golf Course\, 298 Nob North Drive\, Cohutta\, GA\, 30710\, United States
GEO:34.916119;-84.952851
X-APPLE-STRUCTURED-LOCATION;VALUE=URI;X-ADDRESS=Nob North Golf Course 298 Nob North Drive Cohutta GA 30710 United States;X-APPLE-RADIUS=500;X-TITLE=298 Nob North Drive:geo:-84.952851,34.916119
END:VEVENT
BEGIN:VEVENT
DTSTART;VALUE=DATE:20221107
DTEND;VALUE=DATE:20221108
DTSTAMP:20260422T220517
CREATED:20221012T171422Z
LAST-MODIFIED:20240718T100622Z
UID:10000235-1667779200-1667865599@georgiapga.com
SUMMARY:Playing Ability Test
DESCRIPTION:
URL:https://georgiapga.com/event/playing-ability-test-4/
LOCATION:Nob North Golf Course\, 298 Nob North Drive\, Cohutta\, GA\, 30710\, United States
GEO:34.916119;-84.952851
X-APPLE-STRUCTURED-LOCATION;VALUE=URI;X-ADDRESS=Nob North Golf Course 298 Nob North Drive Cohutta GA 30710 United States;X-APPLE-RADIUS=500;X-TITLE=298 Nob North Drive:geo:-84.952851,34.916119
END:VEVENT
END:VCALENDAR