BEGIN:VCALENDAR
VERSION:2.0
PRODID:-//Georgia PGA - ECPv6.15.20//NONSGML v1.0//EN
CALSCALE:GREGORIAN
METHOD:PUBLISH
X-ORIGINAL-URL:https://georgiapga.com
X-WR-CALDESC:Events for Georgia PGA
REFRESH-INTERVAL;VALUE=DURATION:PT1H
X-Robots-Tag:noindex
X-PUBLISHED-TTL:PT1H
BEGIN:VTIMEZONE
TZID:UTC
BEGIN:STANDARD
TZOFFSETFROM:+0000
TZOFFSETTO:+0000
TZNAME:UTC
DTSTART:20180101T000000
END:STANDARD
END:VTIMEZONE
BEGIN:VEVENT
DTSTART;VALUE=DATE:20191116
DTEND;VALUE=DATE:20191118
DTSTAMP:20260425T112610
CREATED:20190208T002031Z
LAST-MODIFIED:20240718T095006Z
UID:10000161-1573862400-1574035199@georgiapga.com
SUMMARY:Junior Tour Championship
DESCRIPTION:The season ending Championship will take place at Château Élan Golf Club – Château Course. This is a 36-hole ranked tournament contested over two days. The event is open to members only of the Georgia PGA Junior Tour who have qualified on Player of the Year points throughout the year.
URL:https://georgiapga.com/event/junior-tour-championship/
LOCATION:Château Élan Golf Club – Château Course\, 6060 Golf Club Dr\, Braselton\, GA\, 30517\, United States
CATEGORIES:Junior Tour,Tournaments
GEO:34.1113489;-83.82412
X-APPLE-STRUCTURED-LOCATION;VALUE=URI;X-ADDRESS=Château Élan Golf Club – Château Course 6060 Golf Club Dr Braselton GA 30517 United States;X-APPLE-RADIUS=500;X-TITLE=6060 Golf Club Dr:geo:-83.82412,34.1113489
END:VEVENT
BEGIN:VEVENT
DTSTART;VALUE=DATE:20191118
DTEND;VALUE=DATE:20191119
DTSTAMP:20260425T112610
CREATED:20190207T170929Z
LAST-MODIFIED:20240718T094500Z
UID:10000139-1574035200-1574121599@georgiapga.com
SUMMARY:RSM Classic Open Qualifier
DESCRIPTION:ONLINE REGISTRATION – Opens 10/01/2019\n\n\n\n Begins:\nOct 1\, 2019 at 6:00 AM EDT\n\n\n Entry Deadline:\nNov 15\, 2019 at 5:00 PM EST\n\n\n Entry Fee\n Fee\n\n\n\n 19-20 PGA Tour Mem\n$0\n\n\n\n Current Web.com Memb\n$100\n\n\n\n CurrentChampTourMem\n$100\n\n\n\n PGASectionExemption\n$450\n\n\n\n 17-19PGATOUR Memb\n$450\n\n\n\n 19-20seasonMadecut i\n$450\n\n\n\n Exempt from Pre-Qual\n$450\n\n\n\n Successful Pre-Qual\n$250\n\n\n\n Pre-Qual Canada Tour\n$100\n\n\n\n Pre-Qual Latino Tour\n$100\n\n\n\n Pre-Qual China Tour\n$100\n\n\n\n Field Size:\n144 players\n\n\n\nPRACTICE ROUNDS:\nYour first practice round is $40…Each additional practice round is at the discretion of the club. \nYou MUST call the golf shop and set-up your practice round. \nBrunswick Country Club\n4041 Darien Hwy\nBrunswick\, GA 31525\n(912) 264-4377 \nELIGIBILITY:\nEligible for the Open Qualifier: \n\n2019-2020 Season PGA TOUR Member $0\nCurrent Web.com Tour Members and Current PGA TOUR Champions Regular Members $100\nPGA Section Exemption (3 players maximum)\, Former PGA TOUR Members 2017-2019\, players making a cut on the PGA TOUR in 2019-2020 season\, players in the top 100 on the World Golf Rankings as of the non-member entry deadline and players in the PGA TOUR event immediately preceding the Open Qualifier $450\nCurrent MacKenzie Tour-PGA TOUR Canada\, PGA TOUR Latinoamérica or PGA TOUR Series-China members. Eligible for one of the above exemptions and therefore exempt into the Open Qualifier $300\n\nPre-Qualifier: \nAll other Professionals or Amateurs/Players Seeking Amateur Status: $200 \nNote: Successful Pre-Qualifying Professionals and Amateurs/Players Seeking Amateur Status are subject to an additional $250 entry fee prior to teeing off in the Open Qualifying. An additional $100 for current members of MacKenzie Tour-PGA TOUR Canada\, PGA TOUR Latinoamérica and PGA TOUR Series-China. \nCOURSE SET-UP:\nHole #3 (481 yards) will be played as a Par 4 \nHole #12 (461 yards) will be played as a Par 4 \nTOP 10 OF PGA TOUR CANADA\nPlease be advised that the following players have earned membership on the Web.com Tour by finishing in the Top 10 of PGA TOUR Canada. Please allow them to enter open qualifying as you do our other members. They should pay $100 to enter and do not need to pre-qualify. \nSPOTS:\nThe number of players advancing is normally four; to the extent possible\, playoffs for qualifier positions shall be conducted immediately following the completion of qualifier competition play. \nIt is not necessary to identify alternates\, since a withdrawal by one of the four open qualifiers will result in that qualifier being replaced with a player on the PGA TOUR alternate list. \nIn no case will a playoff be decided by any means other than a hole-by-hole format\, even if this means continuing the playoff on the next day.
URL:https://georgiapga.com/event/rsm-classic-open-qualifier/
LOCATION:Brunswick Country Club\, 4041 Darien Hwy\, Brunswick\, GA\, 31525\, United States
CATEGORIES:Tour Qualifiers,Tournaments
GEO:31.219529;-81.463538
X-APPLE-STRUCTURED-LOCATION;VALUE=URI;X-ADDRESS=Brunswick Country Club 4041 Darien Hwy Brunswick GA 31525 United States;X-APPLE-RADIUS=500;X-TITLE=4041 Darien Hwy:geo:-81.463538,31.219529
END:VEVENT
BEGIN:VEVENT
DTSTART;VALUE=DATE:20191118
DTEND;VALUE=DATE:20191120
DTSTAMP:20260425T112610
CREATED:20190125T235008Z
LAST-MODIFIED:20240718T094328Z
UID:10000131-1574035200-1574207999@georgiapga.com
SUMMARY:Mullins Cup
DESCRIPTION:  \n 
URL:https://georgiapga.com/event/mullins-cup/
LOCATION:Doublegate Country Club\, 3800 Old Dawson Rd\, Albany\, GA\, 31721\, United States
CATEGORIES:Senior Division,Tournaments
GEO:31.6130806;-84.2609859
X-APPLE-STRUCTURED-LOCATION;VALUE=URI;X-ADDRESS=Doublegate Country Club 3800 Old Dawson Rd Albany GA 31721 United States;X-APPLE-RADIUS=500;X-TITLE=3800 Old Dawson Rd:geo:-84.2609859,31.6130806
END:VEVENT
END:VCALENDAR