BEGIN:VCALENDAR
VERSION:2.0
PRODID:-//Georgia PGA - ECPv6.15.20//NONSGML v1.0//EN
CALSCALE:GREGORIAN
METHOD:PUBLISH
X-WR-CALNAME:Georgia PGA
X-ORIGINAL-URL:https://georgiapga.com
X-WR-CALDESC:Events for Georgia PGA
REFRESH-INTERVAL;VALUE=DURATION:PT1H
X-Robots-Tag:noindex
X-PUBLISHED-TTL:PT1H
BEGIN:VTIMEZONE
TZID:UTC
BEGIN:STANDARD
TZOFFSETFROM:+0000
TZOFFSETTO:+0000
TZNAME:UTC
DTSTART:20180101T000000
END:STANDARD
END:VTIMEZONE
BEGIN:VEVENT
DTSTART;VALUE=DATE:20191118
DTEND;VALUE=DATE:20191120
DTSTAMP:20260420T005411
CREATED:20190125T235008Z
LAST-MODIFIED:20240718T094328Z
UID:10000131-1574035200-1574207999@georgiapga.com
SUMMARY:Mullins Cup
DESCRIPTION:  \n 
URL:https://georgiapga.com/event/mullins-cup/
LOCATION:Doublegate Country Club\, 3800 Old Dawson Rd\, Albany\, GA\, 31721\, United States
CATEGORIES:Senior Division,Tournaments
GEO:31.6130806;-84.2609859
X-APPLE-STRUCTURED-LOCATION;VALUE=URI;X-ADDRESS=Doublegate Country Club 3800 Old Dawson Rd Albany GA 31721 United States;X-APPLE-RADIUS=500;X-TITLE=3800 Old Dawson Rd:geo:-84.2609859,31.6130806
END:VEVENT
BEGIN:VEVENT
DTSTART;VALUE=DATE:20191021
DTEND;VALUE=DATE:20191023
DTSTAMP:20260420T005411
CREATED:20190125T235153Z
LAST-MODIFIED:20240718T094340Z
UID:10000132-1571616000-1571788799@georgiapga.com
SUMMARY:Senior Tour Championship
DESCRIPTION:Senior Tour Championship\nOctober 7-8\, 2019\nPlanterra Ridge GC\nCLICK HERE to Register\n(Entry Deadline is 10:00 a.m. Friday\, October 4\, 2019)
URL:https://georgiapga.com/event/senior-tour-championship/
LOCATION:Planterra Ridge Golf Club\, 500 Clubhouse Dr\, Peachtree City\, GA\, 30269\, United States
CATEGORIES:Senior Division,Tournaments
GEO:33.383001;-84.587138
X-APPLE-STRUCTURED-LOCATION;VALUE=URI;X-ADDRESS=Planterra Ridge Golf Club 500 Clubhouse Dr Peachtree City GA 30269 United States;X-APPLE-RADIUS=500;X-TITLE=500 Clubhouse Dr:geo:-84.587138,33.383001
END:VEVENT
BEGIN:VEVENT
DTSTART;VALUE=DATE:20190909
DTEND;VALUE=DATE:20190911
DTSTAMP:20260420T005411
CREATED:20190125T235343Z
LAST-MODIFIED:20240718T094350Z
UID:10000133-1567987200-1568159999@georgiapga.com
SUMMARY:Chapel Hills Senior Classic
DESCRIPTION:
URL:https://georgiapga.com/event/chapel-hills-senior-classic/
LOCATION:GA
CATEGORIES:Senior Division,Tournaments
END:VEVENT
BEGIN:VEVENT
DTSTART;VALUE=DATE:20190318
DTEND;VALUE=DATE:20190320
DTSTAMP:20260420T005411
CREATED:20190125T235631Z
LAST-MODIFIED:20240718T094403Z
UID:10000134-1552867200-1553039999@georgiapga.com
SUMMARY:Southeast Senior Classic
DESCRIPTION:Southeast Senior Classic at Sanctuary GC\nMarch 18-19\, 2019\nSanctuary Golf Club\nCLICK HERE to Register\n(Entry Deadline is 10:00 a.m. Friday\, March 15\, 2019)
URL:https://georgiapga.com/event/southeast-senior-classic/
LOCATION:Sanctuary Golf Club\, 2050 Sanctuary Wynd\, Waverly\, GA\, 31565\, United States
CATEGORIES:Senior Division,Tournaments
GEO:31.1046093;-81.580865
X-APPLE-STRUCTURED-LOCATION;VALUE=URI;X-ADDRESS=Sanctuary Golf Club 2050 Sanctuary Wynd Waverly GA 31565 United States;X-APPLE-RADIUS=500;X-TITLE=2050 Sanctuary Wynd:geo:-81.580865,31.1046093
END:VEVENT
BEGIN:VEVENT
DTSTART;VALUE=DATE:20190218
DTEND;VALUE=DATE:20190220
DTSTAMP:20260420T005411
CREATED:20190125T235805Z
LAST-MODIFIED:20240718T094414Z
UID:10000135-1550448000-1550620799@georgiapga.com
SUMMARY:Ed Everett Senior Classic
DESCRIPTION:Ed Everett Senior Classic\nFebruary 18-19\, 2019\nDoublegate CC\nCLICK HERE to Register\n(Entry Deadline is 10:00 a.m. Friday\, February 15\, 2019)
URL:https://georgiapga.com/event/ed-everett-senior-classic/
LOCATION:Doublegate Country Club\, 3800 Old Dawson Rd\, Albany\, GA\, 31721\, United States
CATEGORIES:Senior Division,Tournaments
GEO:31.6130806;-84.2609859
X-APPLE-STRUCTURED-LOCATION;VALUE=URI;X-ADDRESS=Doublegate Country Club 3800 Old Dawson Rd Albany GA 31721 United States;X-APPLE-RADIUS=500;X-TITLE=3800 Old Dawson Rd:geo:-84.2609859,31.6130806
END:VEVENT
END:VCALENDAR